BEGIN:VCALENDAR
VERSION:2.0
PRODID:-//Uudenkaupungin Vanhat Talot ry - ECPv6.15.20//NONSGML v1.0//EN
CALSCALE:GREGORIAN
METHOD:PUBLISH
X-WR-CALNAME:Uudenkaupungin Vanhat Talot ry
X-ORIGINAL-URL:https://www.uginvanhattalot.fi
X-WR-CALDESC:Tapahtumat Uudenkaupungin Vanhat Talot ry
REFRESH-INTERVAL;VALUE=DURATION:PT1H
X-Robots-Tag:noindex
X-PUBLISHED-TTL:PT1H
BEGIN:VTIMEZONE
TZID:Europe/Helsinki
BEGIN:DAYLIGHT
TZOFFSETFROM:+0200
TZOFFSETTO:+0300
TZNAME:EEST
DTSTART:20220327T010000
END:DAYLIGHT
BEGIN:STANDARD
TZOFFSETFROM:+0300
TZOFFSETTO:+0200
TZNAME:EET
DTSTART:20221030T010000
END:STANDARD
BEGIN:DAYLIGHT
TZOFFSETFROM:+0200
TZOFFSETTO:+0300
TZNAME:EEST
DTSTART:20230326T010000
END:DAYLIGHT
BEGIN:STANDARD
TZOFFSETFROM:+0300
TZOFFSETTO:+0200
TZNAME:EET
DTSTART:20231029T010000
END:STANDARD
BEGIN:DAYLIGHT
TZOFFSETFROM:+0200
TZOFFSETTO:+0300
TZNAME:EEST
DTSTART:20240331T010000
END:DAYLIGHT
BEGIN:STANDARD
TZOFFSETFROM:+0300
TZOFFSETTO:+0200
TZNAME:EET
DTSTART:20241027T010000
END:STANDARD
END:VTIMEZONE
BEGIN:VEVENT
DTSTART;TZID=Europe/Helsinki:20230627T150000
DTEND;TZID=Europe/Helsinki:20230808T170000
DTSTAMP:20260420T030003
CREATED:20230528T151128Z
LAST-MODIFIED:20230730T160806Z
UID:1382-1687878000-1691514000@www.uginvanhattalot.fi
SUMMARY:Pihat ja puutalot -kierrokset kesällä 2023
DESCRIPTION:Tule tutustumaan ihaniin vanhoihin pihoihin ja puutarhoihin opastetuilla kierroksilla! \nKaduilla kulkiessa näkee porteilta kutsuvia pihoja. Nyt on mahdollisuus astua sisään portista ja tutustua muutamaan viehättävään pihaan ja puutarhaan. Osassa opastetun reitin kohteita omistajat ovat itse paikalla kertomassa talon ja puutarhan historiasta\, osassa käydään vaan kurkkaamassa pihan ihanuuksia.\nJa tietenkin puutarhakierrokseen kuuluu puutarhassa nautittu iltapäiväkahvi\, joka sisältyy lipun hintaan. \nKierros kestää 2 tuntia\, lähtöpaikka Uuden kirkon pääoven edestä\, Rauhankatu 3 ja kierros päättyy Vanhan kirkon kupeeseen. \nKierrokset 27.6.\, 4.7.\, 25.7.\, 1.8. \nKIERROS 8.8. alkaa Uuden kirkon edestä ja yhden kohteen jälkeen suuntamme Sorvakon puolelle\, jossa tutustumme useampaan kauniisti \nlaitettuun pihaan. Kierros päättyy Sorvakkoon.
URL:https://www.uginvanhattalot.fi/tapahtuma/pihat-ja-puutalot-kierrokset-kesalla-2023/
LOCATION:Uusi kirkko Uusikaupunki
CATEGORIES:Muut tapahtumat
ATTACH;FMTTYPE=image/jpeg:https://www.uginvanhattalot.fi/wp-content/uploads/2023/05/2022_12.07.2-3.jpg
END:VEVENT
BEGIN:VEVENT
DTSTART;TZID=Europe/Helsinki:20230831T190000
DTEND;TZID=Europe/Helsinki:20230831T210000
DTSTAMP:20260420T030003
CREATED:20230727T094533Z
LAST-MODIFIED:20230804T060820Z
UID:1408-1693508400-1693515600@www.uginvanhattalot.fi
SUMMARY:Illallinen Uudenkaupungin taivaan alla to 31.8.2023
DESCRIPTION:Uudenkaupungin Vanhat Talot ry toivottaa kaikki hyvästä ruuasta ja mukavasta seurasta kiinnostuneet tervetulleeksi mukaan nauttimaan tunnelmallisesta kesäillasta Alisenkadun pihakatuosuudelle\, Uudenkaupungin taivaan alle! \nIdeana on\, että jokainen tuo illallisen mukanaan\, toki sen voi valmistaa yhdessä vaikka ystäväporukassa tai noutaa mukaan paikallisilta yrittäjiltä\, sääntöjä ei ole. Pitkät pöydät ja valkoiset liinat odottavat ruokailijoita klo 19.00. Illan ohjelmassa on seurustelun ja mukavan yhdessäolon lisäksi musiikkia sekä illan aluksi Uudenkaupungin Upeat Pihat -kisan voittajien julkistus ja palkintojenjako. \nIllallistapahtuma järjestetään yhteistyössä Uudenkaupungin kaupungin kanssa.\nMaksuttomien pöytäpaikkojen varaus tästä linkistä https://bit.ly/illallinen_2023
URL:https://www.uginvanhattalot.fi/tapahtuma/illallinen-uudenkaupungin-taivaan-alla-to-31-8-2023/
CATEGORIES:Muut tapahtumat
ATTACH;FMTTYPE=image/jpeg:https://www.uginvanhattalot.fi/wp-content/uploads/2023/07/Illallinen-ugin-taivaan-alla-2023.jpeg
END:VEVENT
END:VCALENDAR