BEGIN:VCALENDAR
VERSION:2.0
PRODID:-//Uudenkaupungin Vanhat Talot ry - ECPv6.15.20//NONSGML v1.0//EN
CALSCALE:GREGORIAN
METHOD:PUBLISH
X-WR-CALNAME:Uudenkaupungin Vanhat Talot ry
X-ORIGINAL-URL:https://www.uginvanhattalot.fi
X-WR-CALDESC:Tapahtumat Uudenkaupungin Vanhat Talot ry
REFRESH-INTERVAL;VALUE=DURATION:PT1H
X-Robots-Tag:noindex
X-PUBLISHED-TTL:PT1H
BEGIN:VTIMEZONE
TZID:Europe/Helsinki
BEGIN:DAYLIGHT
TZOFFSETFROM:+0200
TZOFFSETTO:+0300
TZNAME:EEST
DTSTART:20210328T010000
END:DAYLIGHT
BEGIN:STANDARD
TZOFFSETFROM:+0300
TZOFFSETTO:+0200
TZNAME:EET
DTSTART:20211031T010000
END:STANDARD
BEGIN:DAYLIGHT
TZOFFSETFROM:+0200
TZOFFSETTO:+0300
TZNAME:EEST
DTSTART:20220327T010000
END:DAYLIGHT
BEGIN:STANDARD
TZOFFSETFROM:+0300
TZOFFSETTO:+0200
TZNAME:EET
DTSTART:20221030T010000
END:STANDARD
BEGIN:DAYLIGHT
TZOFFSETFROM:+0200
TZOFFSETTO:+0300
TZNAME:EEST
DTSTART:20230326T010000
END:DAYLIGHT
BEGIN:STANDARD
TZOFFSETFROM:+0300
TZOFFSETTO:+0200
TZNAME:EET
DTSTART:20231029T010000
END:STANDARD
END:VTIMEZONE
BEGIN:VEVENT
DTSTART;TZID=Europe/Helsinki:20221127T110000
DTEND;TZID=Europe/Helsinki:20221217T130000
DTSTAMP:20260420T182843
CREATED:20221118T181939Z
LAST-MODIFIED:20221118T182407Z
UID:1309-1669546800-1671282000@www.uginvanhattalot.fi
SUMMARY:Joulupuoti
DESCRIPTION:UVT:n joulupuoti on avoinna Puutalokaupungin Joulussa sunnuntaina 27.11. klo 11-17\,\njoulukuussa lauantaisin klo 10-13 sekä toimiston aukioloaikoina ma-ke klo 10-15. \nTervetuloa lahjaostoksille! \n 
URL:https://www.uginvanhattalot.fi/tapahtuma/joulupuoti/
CATEGORIES:Muut tapahtumat
ATTACH;FMTTYPE=image/jpeg:https://www.uginvanhattalot.fi/wp-content/uploads/2022/11/IMG_2052-scaled-e1699956457716.jpg
END:VEVENT
END:VCALENDAR