BEGIN:VCALENDAR
VERSION:2.0
PRODID:-//Uudenkaupungin Vanhat Talot ry - ECPv6.15.20//NONSGML v1.0//EN
CALSCALE:GREGORIAN
METHOD:PUBLISH
X-WR-CALNAME:Uudenkaupungin Vanhat Talot ry
X-ORIGINAL-URL:https://www.uginvanhattalot.fi
X-WR-CALDESC:Tapahtumat Uudenkaupungin Vanhat Talot ry
REFRESH-INTERVAL;VALUE=DURATION:PT1H
X-Robots-Tag:noindex
X-PUBLISHED-TTL:PT1H
BEGIN:VTIMEZONE
TZID:Europe/Helsinki
BEGIN:DAYLIGHT
TZOFFSETFROM:+0200
TZOFFSETTO:+0300
TZNAME:EEST
DTSTART:20210328T010000
END:DAYLIGHT
BEGIN:STANDARD
TZOFFSETFROM:+0300
TZOFFSETTO:+0200
TZNAME:EET
DTSTART:20211031T010000
END:STANDARD
BEGIN:DAYLIGHT
TZOFFSETFROM:+0200
TZOFFSETTO:+0300
TZNAME:EEST
DTSTART:20220327T010000
END:DAYLIGHT
BEGIN:STANDARD
TZOFFSETFROM:+0300
TZOFFSETTO:+0200
TZNAME:EET
DTSTART:20221030T010000
END:STANDARD
BEGIN:DAYLIGHT
TZOFFSETFROM:+0200
TZOFFSETTO:+0300
TZNAME:EEST
DTSTART:20230326T010000
END:DAYLIGHT
BEGIN:STANDARD
TZOFFSETFROM:+0300
TZOFFSETTO:+0200
TZNAME:EET
DTSTART:20231029T010000
END:STANDARD
END:VTIMEZONE
BEGIN:VEVENT
DTSTART;TZID=Europe/Helsinki:20220705T150000
DTEND;TZID=Europe/Helsinki:20220705T170000
DTSTAMP:20260420T231213
CREATED:20220701T084359Z
LAST-MODIFIED:20220701T092137Z
UID:975-1657033200-1657040400@www.uginvanhattalot.fi
SUMMARY:Pihat ja puutalot -kierros
DESCRIPTION:Koe vanhojen pihojen ja puutarhojen tunnelma! \nReissuilla kulkiessa näkee kaduilta ja porteilta kutsuvan näköisiin pihoihin. Uudenkaupungin Vanhat Talot ry:n järjestämillä kierroksilla on mahdollista astua porttien sisäpuolelle ja tutustua muutamaan viehättävään uusikaupunkilaiseen pihaan ja puutarhaan. \nOsassa opastetun reitin kohteissa ovat omistajat paikalla kertomassa talon ja puutarhan historiasta. Osassa pistäydytään oppaan johdolla kurkkaamassa pihan ihanuuksia. Puutarhakierrokseen kuuluu tottakai myös kierroksen lomassa nautittu iltapäiväkahvi. \nLähtöpaikka Uuden kirkon (Rauhankatu 3) pääoven edestä ja kierros päättyy Vanhan kirkon kupeeseen. \nKierros kestää noin kaksi tuntia ja iltapäiväkahvi sisältyy kierroksen hintaan. \nOsta lippu ennakkoon www.doerz.com/visituusikaupunki
URL:https://www.uginvanhattalot.fi/tapahtuma/pihat-ja-puutalot-kierros-2/
CATEGORIES:Muut tapahtumat
ATTACH;FMTTYPE=image/jpeg:https://www.uginvanhattalot.fi/wp-content/uploads/2022/07/pihakahvit22021.jpg
END:VEVENT
BEGIN:VEVENT
DTSTART;TZID=Europe/Helsinki:20220712T150000
DTEND;TZID=Europe/Helsinki:20220712T170000
DTSTAMP:20260420T231213
CREATED:20220701T084606Z
LAST-MODIFIED:20220701T092703Z
UID:979-1657638000-1657645200@www.uginvanhattalot.fi
SUMMARY:Pihat ja puutalot -kierros
DESCRIPTION:Koe vanhojen pihojen ja puutarhojen tunnelma! \nReissuilla kulkiessa näkee kaduilta ja porteilta kutsuvan näköisiin pihoihin. Uudenkaupungin Vanhat Talot ry:n järjestämillä kierroksilla on mahdollista astua porttien sisäpuolelle ja tutustua muutamaan viehättävään uusikaupunkilaiseen pihaan ja puutarhaan. \nOsassa opastetun reitin kohteissa ovat omistajat paikalla kertomassa talon ja puutarhan historiasta. Osassa pistäydytään oppaan johdolla kurkkaamassa pihan ihanuuksia. Puutarhakierrokseen kuuluu tottakai myös kierroksen lomassa nautittu iltapäiväkahvi. \nLähtöpaikka Uuden kirkon (Rauhankatu 3) pääoven edestä ja kierros päättyy Vanhan kirkon kupeeseen. \nKierros kestää noin kaksi tuntia ja iltapäiväkahvi sisältyy kierroksen hintaan. \nOsta lippu ennakkoon www.doerz.com/visituusikaupunki
URL:https://www.uginvanhattalot.fi/tapahtuma/pihat-ja-puutalot-kierros-3/
CATEGORIES:Muut tapahtumat
ATTACH;FMTTYPE=image/jpeg:https://www.uginvanhattalot.fi/wp-content/uploads/2022/07/Sinilaakson-piha-scaled.jpg
END:VEVENT
BEGIN:VEVENT
DTSTART;TZID=Europe/Helsinki:20220719T150000
DTEND;TZID=Europe/Helsinki:20220719T170000
DTSTAMP:20260420T231213
CREATED:20220701T084722Z
LAST-MODIFIED:20220701T092927Z
UID:982-1658242800-1658250000@www.uginvanhattalot.fi
SUMMARY:Pihat ja puutalot -kierros
DESCRIPTION:Koe vanhojen pihojen ja puutarhojen tunnelma! \nReissuilla kulkiessa näkee kaduilta ja porteilta kutsuvan näköisiin pihoihin. Uudenkaupungin Vanhat Talot ry:n järjestämillä kierroksilla on mahdollista astua porttien sisäpuolelle ja tutustua muutamaan viehättävään uusikaupunkilaiseen pihaan ja puutarhaan. \nOsassa opastetun reitin kohteissa ovat omistajat paikalla kertomassa talon ja puutarhan historiasta. Osassa pistäydytään oppaan johdolla kurkkaamassa pihan ihanuuksia. Puutarhakierrokseen kuuluu tottakai myös kierroksen lomassa nautittu iltapäiväkahvi. \nLähtöpaikka Uuden kirkon (Rauhankatu 3) pääoven edestä ja kierros päättyy Vanhan kirkon kupeeseen. \nKierros kestää noin kaksi tuntia ja iltapäiväkahvi sisältyy kierroksen hintaan. \nOsta lippu ennakkoon www.doerz.com/visituusikaupunki
URL:https://www.uginvanhattalot.fi/tapahtuma/pihat-ja-puutalot-kierros-4/
CATEGORIES:Muut tapahtumat
ATTACH;FMTTYPE=image/jpeg:https://www.uginvanhattalot.fi/wp-content/uploads/2022/07/pihat52021.jpg
END:VEVENT
BEGIN:VEVENT
DTSTART;TZID=Europe/Helsinki:20220724T150000
DTEND;TZID=Europe/Helsinki:20220724T163000
DTSTAMP:20260420T231213
CREATED:20220720T114911Z
LAST-MODIFIED:20220720T115211Z
UID:1061-1658674800-1658680200@www.uginvanhattalot.fi
SUMMARY:Wallilan vauhdikkaat vuosikymmenet 24.7.
DESCRIPTION:Tervetuloa tutustumaan keskustan sydämessä sijaitsevaan Wallilan kartanoon\, sen pihapiiriin ja vauhdikkaisiin vuosikymmeniin talon historiassa. Opastettu kierros ja iltapäiväkahvit.\nOsoite Alinenkatu 41. \nLiput 12e ennakkoon https://fi.doerz.com/visituusikaupunki
URL:https://www.uginvanhattalot.fi/tapahtuma/wallilan-vauhdikkaat-vuosikymmenet/
ATTACH;FMTTYPE=image/jpeg:https://www.uginvanhattalot.fi/wp-content/uploads/2022/06/Vallila-scaled.jpg
END:VEVENT
BEGIN:VEVENT
DTSTART;TZID=Europe/Helsinki:20220726T150000
DTEND;TZID=Europe/Helsinki:20220726T163000
DTSTAMP:20260420T231213
CREATED:20220720T115053Z
LAST-MODIFIED:20220720T115053Z
UID:1063-1658847600-1658853000@www.uginvanhattalot.fi
SUMMARY:Wallilan vauhdikkaat vuosikymmenet 26.7.
DESCRIPTION:Tervetuloa tutustumaan keskustan sydämessä sijaitsevaan Wallilan kartanoon\, sen pihapiiriin ja vauhdikkaisiin vuosikymmeniin talon historiassa. Opastettu kierros ja iltapäiväkahvit.\nOsoite Alinenkatu 41. \nLiput 12e ennakkoon https://fi.doerz.com/visituusikaupunki
URL:https://www.uginvanhattalot.fi/tapahtuma/wallilan-vauhdikkaat-vuosikymmenet-26-7/
ATTACH;FMTTYPE=image/jpeg:https://www.uginvanhattalot.fi/wp-content/uploads/2022/06/Vallila-scaled.jpg
END:VEVENT
BEGIN:VEVENT
DTSTART;TZID=Europe/Helsinki:20220730T150000
DTEND;TZID=Europe/Helsinki:20220730T170000
DTSTAMP:20260420T231213
CREATED:20220720T114413Z
LAST-MODIFIED:20220720T114413Z
UID:1059-1659193200-1659200400@www.uginvanhattalot.fi
SUMMARY:Crusell-viikon pihakonsertti 30.7.
DESCRIPTION:Crusell -viikon pihakonsertti ainutlaatuisessa puutalomiljöössä la 30.7. klo 15.00.\nOhjelma: Crusell: Divertimento op.9 ja Hans Gal: Divertimento op. 22.\nEsittäjinä Crusell-viikon taiteilijoita. \nVapaa pääsy. \nRantakatu 14
URL:https://www.uginvanhattalot.fi/tapahtuma/crusell-viikon-pihakonsertti-30-7/
ATTACH;FMTTYPE=image/jpeg:https://www.uginvanhattalot.fi/wp-content/uploads/2022/06/slider1.jpg
END:VEVENT
END:VCALENDAR