BEGIN:VCALENDAR
VERSION:2.0
PRODID:-//Uudenkaupungin Vanhat Talot ry - ECPv6.15.20//NONSGML v1.0//EN
CALSCALE:GREGORIAN
METHOD:PUBLISH
X-WR-CALNAME:Uudenkaupungin Vanhat Talot ry
X-ORIGINAL-URL:https://www.uginvanhattalot.fi
X-WR-CALDESC:Tapahtumat Uudenkaupungin Vanhat Talot ry
REFRESH-INTERVAL;VALUE=DURATION:PT1H
X-Robots-Tag:noindex
X-PUBLISHED-TTL:PT1H
BEGIN:VTIMEZONE
TZID:Europe/Helsinki
BEGIN:DAYLIGHT
TZOFFSETFROM:+0200
TZOFFSETTO:+0300
TZNAME:EEST
DTSTART:20210328T010000
END:DAYLIGHT
BEGIN:STANDARD
TZOFFSETFROM:+0300
TZOFFSETTO:+0200
TZNAME:EET
DTSTART:20211031T010000
END:STANDARD
BEGIN:DAYLIGHT
TZOFFSETFROM:+0200
TZOFFSETTO:+0300
TZNAME:EEST
DTSTART:20220327T010000
END:DAYLIGHT
BEGIN:STANDARD
TZOFFSETFROM:+0300
TZOFFSETTO:+0200
TZNAME:EET
DTSTART:20221030T010000
END:STANDARD
BEGIN:DAYLIGHT
TZOFFSETFROM:+0200
TZOFFSETTO:+0300
TZNAME:EEST
DTSTART:20230326T010000
END:DAYLIGHT
BEGIN:STANDARD
TZOFFSETFROM:+0300
TZOFFSETTO:+0200
TZNAME:EET
DTSTART:20231029T010000
END:STANDARD
END:VTIMEZONE
BEGIN:VEVENT
DTSTART;VALUE=DATE:20220409
DTEND;VALUE=DATE:20220411
DTSTAMP:20260421T033135
CREATED:20220404T143601Z
LAST-MODIFIED:20220404T150128Z
UID:585-1649462400-1649635199@www.uginvanhattalot.fi
SUMMARY:Pinkopahvi ja keittiömaalauskurssi
DESCRIPTION:Taas on mahdollisuus oppia perinteisiä kunnostusmenetelmiä. Tällä kurssilla asennetaan pinkopahvi kattoon ja seiniinkin\, jos aikaa jää. Toisena päivänä tehdään pohjatöitä ja maalataan katto kertaalleen. Samalla tehdään erilaisia perinteisiä ns. keittiömaaleja kuten munatempera\, liimamaali ym. Kaikki kurssilaiset pääsevät itse tekemään eri työvaiheita. \nKurssipaikka on Uudenkaupungin keskusta-alueella. Kurssiohjaajana toimii rakennusrestauroinnin artenomi Elsi Lehto. \nTämän kaksipäiväisen kurssin hinta on 120e ja se sisältää lounaan ja kahvit molempina päivinä. Ilmoittautumiset 6.4. mennessä info@uginvanhattalot.fi
URL:https://www.uginvanhattalot.fi/tapahtuma/pinkopahvi-ja-keittiomaalauskurssi/
CATEGORIES:Kurssit
ATTACH;FMTTYPE=image/jpeg:https://www.uginvanhattalot.fi/wp-content/uploads/2022/04/277241934_3739025476222065_1092790091279309676_n.jpg
END:VEVENT
END:VCALENDAR