BEGIN:VCALENDAR
VERSION:2.0
PRODID:-//Uudenkaupungin Vanhat Talot ry - ECPv6.15.20//NONSGML v1.0//EN
CALSCALE:GREGORIAN
METHOD:PUBLISH
X-WR-CALNAME:Uudenkaupungin Vanhat Talot ry
X-ORIGINAL-URL:https://www.uginvanhattalot.fi
X-WR-CALDESC:Tapahtumat Uudenkaupungin Vanhat Talot ry
REFRESH-INTERVAL;VALUE=DURATION:PT1H
X-Robots-Tag:noindex
X-PUBLISHED-TTL:PT1H
BEGIN:VTIMEZONE
TZID:Europe/Helsinki
BEGIN:DAYLIGHT
TZOFFSETFROM:+0200
TZOFFSETTO:+0300
TZNAME:EEST
DTSTART:20220327T010000
END:DAYLIGHT
BEGIN:STANDARD
TZOFFSETFROM:+0300
TZOFFSETTO:+0200
TZNAME:EET
DTSTART:20221030T010000
END:STANDARD
BEGIN:DAYLIGHT
TZOFFSETFROM:+0200
TZOFFSETTO:+0300
TZNAME:EEST
DTSTART:20230326T010000
END:DAYLIGHT
BEGIN:STANDARD
TZOFFSETFROM:+0300
TZOFFSETTO:+0200
TZNAME:EET
DTSTART:20231029T010000
END:STANDARD
BEGIN:DAYLIGHT
TZOFFSETFROM:+0200
TZOFFSETTO:+0300
TZNAME:EEST
DTSTART:20240331T010000
END:DAYLIGHT
BEGIN:STANDARD
TZOFFSETFROM:+0300
TZOFFSETTO:+0200
TZNAME:EET
DTSTART:20241027T010000
END:STANDARD
END:VTIMEZONE
BEGIN:VEVENT
DTSTART;TZID=Europe/Helsinki:20230902T100000
DTEND;TZID=Europe/Helsinki:20230902T140000
DTSTAMP:20260420T025752
CREATED:20230814T163848Z
LAST-MODIFIED:20230814T163848Z
UID:1439-1693648800-1693663200@www.uginvanhattalot.fi
SUMMARY:Pop up -puoti ja korjausrakentamisklinikka 2.9.2023
DESCRIPTION:Kesän päätteeksi siivotaan tuotevarastoja ja myydään yksittäiskappaleet edullisesti\, puoti avoinna klo 10-14. \nElsin korjausrakentamisklinikka on avoinna klo 10-12\, tervetuloa juttelemaan projekteista tai vaikka varaamaan\nkäyntiaika korjausneuvojalta!
URL:https://www.uginvanhattalot.fi/tapahtuma/pop-up-puoti-ja-korjausrakentamisklinikka-2-9-2023/
LOCATION:UVT:n toimisto\, Sepänkatu 4\, Uusikaupunki\, Suomi
CATEGORIES:Muut tapahtumat
ATTACH;FMTTYPE=image/jpeg:https://www.uginvanhattalot.fi/wp-content/uploads/2022/05/pieni-009.KAIKKI.jpg
END:VEVENT
END:VCALENDAR