BEGIN:VCALENDAR
VERSION:2.0
PRODID:-//Uudenkaupungin Vanhat Talot ry - ECPv6.15.20//NONSGML v1.0//EN
CALSCALE:GREGORIAN
METHOD:PUBLISH
X-WR-CALNAME:Uudenkaupungin Vanhat Talot ry
X-ORIGINAL-URL:https://www.uginvanhattalot.fi
X-WR-CALDESC:Tapahtumat Uudenkaupungin Vanhat Talot ry
REFRESH-INTERVAL;VALUE=DURATION:PT1H
X-Robots-Tag:noindex
X-PUBLISHED-TTL:PT1H
BEGIN:VTIMEZONE
TZID:Europe/Helsinki
BEGIN:DAYLIGHT
TZOFFSETFROM:+0200
TZOFFSETTO:+0300
TZNAME:EEST
DTSTART:20210328T010000
END:DAYLIGHT
BEGIN:STANDARD
TZOFFSETFROM:+0300
TZOFFSETTO:+0200
TZNAME:EET
DTSTART:20211031T010000
END:STANDARD
BEGIN:DAYLIGHT
TZOFFSETFROM:+0200
TZOFFSETTO:+0300
TZNAME:EEST
DTSTART:20220327T010000
END:DAYLIGHT
BEGIN:STANDARD
TZOFFSETFROM:+0300
TZOFFSETTO:+0200
TZNAME:EET
DTSTART:20221030T010000
END:STANDARD
BEGIN:DAYLIGHT
TZOFFSETFROM:+0200
TZOFFSETTO:+0300
TZNAME:EEST
DTSTART:20230326T010000
END:DAYLIGHT
BEGIN:STANDARD
TZOFFSETFROM:+0300
TZOFFSETTO:+0200
TZNAME:EET
DTSTART:20231029T010000
END:STANDARD
END:VTIMEZONE
BEGIN:VEVENT
DTSTART;TZID=Europe/Helsinki:20220809T150000
DTEND;TZID=Europe/Helsinki:20220809T170000
DTSTAMP:20260420T231044
CREATED:20220720T115528Z
LAST-MODIFIED:20220720T115528Z
UID:1066-1660057200-1660064400@www.uginvanhattalot.fi
SUMMARY:Pihat ja puutalot -kierros 9.8.
DESCRIPTION:Koe vanhojen pihojen ja puutarhojen tunnelma! \nReissuilla kulkiessa näkee kaduilta ja porteilta kutsuvan näköisiin pihoihin. Uudenkaupungin Vanhat Talot ry:n järjestämillä kierroksilla on mahdollista astua porttien sisäpuolelle ja tutustua muutamaan viehättävään uusikaupunkilaiseen pihaan ja puutarhaan. \nOsassa opastetun reitin kohteissa ovat omistajat paikalla kertomassa talon ja puutarhan historiasta. Osassa pistäydytään oppaan johdolla kurkkaamassa pihan ihanuuksia. Puutarhakierrokseen kuuluu tottakai myös kierroksen lomassa nautittu iltapäiväkahvi. \nLähtöpaikka Uuden kirkon (Rauhankatu 3) pääoven edestä ja kierros päättyy Vanhan kirkon kupeeseen. \nKierros kestää noin kaksi tuntia ja iltapäiväkahvi sisältyy kierroksen hintaan. \nOsta lippu ennakkoon www.doerz.com/visituusikaupunki
URL:https://www.uginvanhattalot.fi/tapahtuma/pihat-ja-puutalot-kierros-9-8/
ATTACH;FMTTYPE=image/jpeg:https://www.uginvanhattalot.fi/wp-content/uploads/2022/07/2022_12.07.2.jpg
END:VEVENT
END:VCALENDAR